BEGIN:VCALENDAR
VERSION:2.0
PRODID:-//Gob Smacked Sports Mouthguards - ECPv6.15.20//NONSGML v1.0//EN
CALSCALE:GREGORIAN
METHOD:PUBLISH
X-WR-CALNAME:Gob Smacked Sports Mouthguards
X-ORIGINAL-URL:https://www.gobsmackedsmg.com.au
X-WR-CALDESC:Events for Gob Smacked Sports Mouthguards
REFRESH-INTERVAL;VALUE=DURATION:PT1H
X-Robots-Tag:noindex
X-PUBLISHED-TTL:PT1H
BEGIN:VTIMEZONE
TZID:UTC
BEGIN:STANDARD
TZOFFSETFROM:+0000
TZOFFSETTO:+0000
TZNAME:UTC
DTSTART:20190101T000000
END:STANDARD
END:VTIMEZONE
BEGIN:VEVENT
DTSTART;TZID=UTC:20200911T170000
DTEND;TZID=UTC:20200911T233000
DTSTAMP:20260424T155151
CREATED:20200604T075000Z
LAST-MODIFIED:20200604T075000Z
UID:157-1599843600-1599867000@www.gobsmackedsmg.com.au
SUMMARY:Ringside Rumble | The Greatest Show in Perth
DESCRIPTION:PRO | AMATEUR | NOVICE Live Boxing \nFood Stalls and Bars \nTicket Prices: \n$55pp General Admission\n$140pp Red Carpet Cocktail Lounge (Fighters Entrance)\n$135pp VIP Table (10) Front Row\n$115pp VIP Table (10) Second Row\n$59pp Drinks Package for Tables ONLY (Table service only | additional to ticket price) \nHELPING THE FIGHT AGAINST SUICIDE \n  \nTICKETS ON SALE 27th JULY 2020 \nVIP Tables from Promoter only 0411 043 313 or \nRingSide Boxing & Fitness\, 21 Gladstone Street\, Perth WA 6000 \nGeneral seating and standing tickets: \nwww.ticketbooth.com.au
URL:https://www.gobsmackedsmg.com.au/event/ringside-rumble-the-greatest-show-in-perth/
LOCATION:Pavillion 1 Perth Convention & Exhibition Centre\, 21 Mounts Bay Road\, Perth\, WA\, 6000\, Australia
CATEGORIES:Upcoming Events
ATTACH;FMTTYPE=image/png:https://www.gobsmackedsmg.com.au/wp-content/uploads/2020/06/RR.png
END:VEVENT
END:VCALENDAR